Package: mogsa Version: 1.40.0 Command: rm -rf mogsa.buildbin-libdir && mkdir mogsa.buildbin-libdir && F:\biocbuild\bbs-3.20-bioc\R\bin\R.exe CMD INSTALL --build --library=mogsa.buildbin-libdir mogsa_1.40.0.tar.gz StartedAt: 2025-02-04 08:58:09 -0500 (Tue, 04 Feb 2025) EndedAt: 2025-02-04 08:58:59 -0500 (Tue, 04 Feb 2025) EllapsedTime: 49.8 seconds RetCode: 0 Status: OK PackageFile: mogsa_1.40.0.zip PackageFileSize: 1.218 MiB