Package: mogsa Version: 1.40.0 Command: F:\biocbuild\bbs-3.20-bioc\R\bin\R.exe CMD INSTALL mogsa StartedAt: 2025-02-03 16:09:44 -0500 (Mon, 03 Feb 2025) EndedAt: 2025-02-03 16:10:28 -0500 (Mon, 03 Feb 2025) EllapsedTime: 43.9 seconds RetCode: 0 Status: OK