Package: mogsa Version: 1.40.0 Command: /home/biocbuild/R/R/bin/R CMD build --keep-empty-dirs --no-resave-data mogsa StartedAt: 2025-02-04 01:05:42 -0000 (Tue, 04 Feb 2025) EndedAt: 2025-02-04 01:08:06 -0000 (Tue, 04 Feb 2025) EllapsedTime: 144.1 seconds RetCode: 0 Status: OK PackageFile: mogsa_1.40.0.tar.gz PackageFileSize: 758.6 KiB