Package: mogsa Version: 1.40.0 Command: /home/biocbuild/R/R/bin/R CMD check --install=check:mogsa.install-out.txt --library=/home/biocbuild/R/R/site-library --no-vignettes --timings mogsa_1.40.0.tar.gz StartedAt: 2025-02-04 08:57:57 -0000 (Tue, 04 Feb 2025) EndedAt: 2025-02-04 09:00:50 -0000 (Tue, 04 Feb 2025) EllapsedTime: 173.2 seconds RetCode: 0 Status: OK CheckDir: mogsa.Rcheck Warnings: 0