Package: mogsa Version: 1.40.0 Command: /home/biocbuild/R/R/bin/R CMD INSTALL mogsa StartedAt: 2025-02-03 21:04:51 -0000 (Mon, 03 Feb 2025) EndedAt: 2025-02-03 21:05:20 -0000 (Mon, 03 Feb 2025) EllapsedTime: 29.5 seconds RetCode: 0 Status: OK