Package: monaLisa Version: 1.12.0 Command: rm -rf monaLisa.buildbin-libdir && mkdir monaLisa.buildbin-libdir && /Users/biocbuild/BBS/utils/build-universal.sh monaLisa_1.12.0.tar.gz /Library/Frameworks/R.framework/Resources/bin/R monaLisa.buildbin-libdir StartedAt: 2025-02-05 16:44:17 -0500 (Wed, 05 Feb 2025) EndedAt: 2025-02-05 16:45:16 -0500 (Wed, 05 Feb 2025) EllapsedTime: 58.8 seconds RetCode: 0 Status: OK PackageFile: monaLisa_1.12.0.tgz PackageFileSize: 6.269 MiB