Package: monaLisa Version: 1.12.0 Command: /Library/Frameworks/R.framework/Resources/bin/R CMD build --keep-empty-dirs --no-resave-data monaLisa StartedAt: 2025-01-31 03:45:39 -0500 (Fri, 31 Jan 2025) EndedAt: 2025-01-31 03:50:25 -0500 (Fri, 31 Jan 2025) EllapsedTime: 286.3 seconds RetCode: 0 Status: OK PackageFile: monaLisa_1.12.0.tar.gz PackageFileSize: 6.095 MiB