Package: monaLisa Version: 1.12.0 Command: /Library/Frameworks/R.framework/Resources/bin/R CMD INSTALL monaLisa StartedAt: 2025-01-30 16:23:14 -0500 (Thu, 30 Jan 2025) EndedAt: 2025-01-30 16:24:49 -0500 (Thu, 30 Jan 2025) EllapsedTime: 95.0 seconds RetCode: 0 Status: OK