Package: monaLisa Version: 1.12.0 Command: /home/biocbuild/bbs-3.20-bioc/R/bin/R CMD build --keep-empty-dirs --no-resave-data --md5 monaLisa StartedAt: 2025-01-30 18:08:51 -0500 (Thu, 30 Jan 2025) EndedAt: 2025-01-30 18:13:11 -0500 (Thu, 30 Jan 2025) EllapsedTime: 259.3 seconds RetCode: 0 Status: OK PackageFile: monaLisa_1.12.0.tar.gz PackageFileSize: 5.268 MiB