Package: monaLisa Version: 1.12.0 Command: /home/biocbuild/bbs-3.20-bioc/R/bin/R CMD check --install=check:monaLisa.install-out.txt --library=/home/biocbuild/bbs-3.20-bioc/R/site-library --timings monaLisa_1.12.0.tar.gz StartedAt: 2025-01-31 00:08:34 -0500 (Fri, 31 Jan 2025) EndedAt: 2025-01-31 00:18:05 -0500 (Fri, 31 Jan 2025) EllapsedTime: 571.6 seconds RetCode: 0 Status: OK CheckDir: monaLisa.Rcheck Warnings: 0