Package: monaLisa Version: 1.12.0 Command: chmod a+r monaLisa -R && F:\biocbuild\bbs-3.20-bioc\R\bin\R.exe CMD build --keep-empty-dirs --no-resave-data monaLisa StartedAt: 2025-01-30 20:15:08 -0500 (Thu, 30 Jan 2025) EndedAt: 2025-01-30 20:22:41 -0500 (Thu, 30 Jan 2025) EllapsedTime: 452.3 seconds RetCode: 0 Status: OK PackageFile: monaLisa_1.12.0.tar.gz PackageFileSize: 4.192 MiB