Package: monaLisa Version: 1.12.0 Command: /home/biocbuild/R/R/bin/R CMD build --keep-empty-dirs --no-resave-data monaLisa StartedAt: 2025-01-31 01:02:41 -0000 (Fri, 31 Jan 2025) EndedAt: 2025-01-31 01:08:18 -0000 (Fri, 31 Jan 2025) EllapsedTime: 337.1 seconds RetCode: 0 Status: OK PackageFile: monaLisa_1.12.0.tar.gz PackageFileSize: 4.276 MiB