Package: mosaics
Version: 2.44.0
Command: /Library/Frameworks/R.framework/Resources/bin/R CMD check --install=check:mosaics.install-out.txt --library=/Library/Frameworks/R.framework/Resources/library --no-vignettes --timings mosaics_2.44.0.tar.gz
StartedAt: 2025-02-19 01:51:37 -0500 (Wed, 19 Feb 2025)
EndedAt: 2025-02-19 01:55:08 -0500 (Wed, 19 Feb 2025)
EllapsedTime: 210.8 seconds
RetCode: 0
Status: OK
CheckDir: mosaics.Rcheck
Warnings: 0