Package: mosaics
Version: 2.44.0
Command: rm -rf mosaics.buildbin-libdir && mkdir mosaics.buildbin-libdir && /Users/biocbuild/BBS/utils/build-universal.sh mosaics_2.44.0.tar.gz /Library/Frameworks/R.framework/Resources/bin/R mosaics.buildbin-libdir
StartedAt: 2025-02-18 12:33:54 -0500 (Tue, 18 Feb 2025)
EndedAt: 2025-02-18 12:35:44 -0500 (Tue, 18 Feb 2025)
EllapsedTime: 109.7 seconds
RetCode: 0
Status: OK
PackageFile: mosaics_2.44.0.tgz
PackageFileSize: 1.831 <A href="http://en.wikipedia.org/wiki/MiB" target="_blank">MiB</A>