Package: mosaics Version: 2.44.0 Command: /Library/Frameworks/R.framework/Resources/bin/R CMD INSTALL mosaics StartedAt: 2025-02-03 15:37:09 -0500 (Mon, 03 Feb 2025) EndedAt: 2025-02-03 15:38:49 -0500 (Mon, 03 Feb 2025) EllapsedTime: 99.5 seconds RetCode: 0 Status: OK