Package: mosaics Version: 2.44.0 Command: chmod a+r mosaics -R && F:\biocbuild\bbs-3.20-bioc\R\bin\R.exe CMD build --keep-empty-dirs --no-resave-data mosaics StartedAt: 2025-02-03 20:30:10 -0500 (Mon, 03 Feb 2025) EndedAt: 2025-02-03 20:33:40 -0500 (Mon, 03 Feb 2025) EllapsedTime: 210.6 seconds RetCode: 0 Status: OK PackageFile: mosaics_2.44.0.tar.gz PackageFileSize: 1.851 MiB