Package: mosaics Version: 2.44.0 Command: F:\biocbuild\bbs-3.20-bioc\R\bin\R.exe CMD check --no-multiarch --install=check:mosaics.install-out.txt --library=F:\biocbuild\bbs-3.20-bioc\R\library --no-vignettes --timings mosaics_2.44.0.tar.gz StartedAt: 2025-02-04 03:57:11 -0500 (Tue, 04 Feb 2025) EndedAt: 2025-02-04 04:01:10 -0500 (Tue, 04 Feb 2025) EllapsedTime: 239.6 seconds RetCode: 0 Status: OK CheckDir: mosaics.Rcheck Warnings: 0