Package: mosaics Version: 2.44.0 Command: /home/biocbuild/R/R/bin/R CMD build --keep-empty-dirs --no-resave-data mosaics StartedAt: 2025-02-04 01:07:17 -0000 (Tue, 04 Feb 2025) EndedAt: 2025-02-04 01:10:35 -0000 (Tue, 04 Feb 2025) EllapsedTime: 198.1 seconds RetCode: 0 Status: OK PackageFile: mosaics_2.44.0.tar.gz PackageFileSize: 2.031 MiB