Package: mosdef Version: 1.2.0 Command: rm -rf mosdef.buildbin-libdir && mkdir mosdef.buildbin-libdir && /Users/biocbuild/BBS/utils/build-universal.sh mosdef_1.2.0.tar.gz /Library/Frameworks/R.framework/Resources/bin/R mosdef.buildbin-libdir StartedAt: 2025-02-01 15:50:01 -0500 (Sat, 01 Feb 2025) EndedAt: 2025-02-01 15:50:58 -0500 (Sat, 01 Feb 2025) EllapsedTime: 57.5 seconds RetCode: 0 Status: OK PackageFile: mosdef_1.2.0.tgz PackageFileSize: 4.657 MiB