Package: mosdef Version: 1.2.0 Command: /Library/Frameworks/R.framework/Resources/bin/R CMD build --keep-empty-dirs --no-resave-data mosdef StartedAt: 2025-01-31 03:50:17 -0500 (Fri, 31 Jan 2025) EndedAt: 2025-01-31 03:56:40 -0500 (Fri, 31 Jan 2025) EllapsedTime: 382.7 seconds RetCode: 0 Status: OK PackageFile: mosdef_1.2.0.tar.gz PackageFileSize: 4.561 MiB