Package: mosdef Version: 1.2.0 Command: /Library/Frameworks/R.framework/Resources/bin/R CMD INSTALL mosdef StartedAt: 2025-01-30 17:19:38 -0500 (Thu, 30 Jan 2025) EndedAt: 2025-01-30 17:20:32 -0500 (Thu, 30 Jan 2025) EllapsedTime: 53.9 seconds RetCode: 0 Status: OK