Package: mosdef Version: 1.2.0 Command: /Library/Frameworks/R.framework/Resources/bin/R CMD build --keep-empty-dirs --no-resave-data mosdef StartedAt: 2025-01-30 20:56:26 -0500 (Thu, 30 Jan 2025) EndedAt: 2025-01-30 21:15:39 -0500 (Thu, 30 Jan 2025) EllapsedTime: 1152.2 seconds RetCode: 0 Status: OK PackageFile: mosdef_1.2.0.tar.gz PackageFileSize: 4.545 MiB