Package: mosdef Version: 1.2.0 Command: /Library/Frameworks/R.framework/Resources/bin/R CMD check --install=check:mosdef.install-out.txt --library=/Library/Frameworks/R.framework/Resources/library --no-vignettes --timings mosdef_1.2.0.tar.gz StartedAt: 2025-01-31 06:46:50 -0500 (Fri, 31 Jan 2025) EndedAt: 2025-01-31 07:08:43 -0500 (Fri, 31 Jan 2025) EllapsedTime: 1313.0 seconds RetCode: 0 Status: OK CheckDir: mosdef.Rcheck Warnings: 0