Package: mosdef Version: 1.2.0 Command: /Library/Frameworks/R.framework/Resources/bin/R CMD INSTALL mosdef StartedAt: 2025-01-30 16:17:11 -0500 (Thu, 30 Jan 2025) EndedAt: 2025-01-30 16:18:47 -0500 (Thu, 30 Jan 2025) EllapsedTime: 96.5 seconds RetCode: 0 Status: OK