Package: mosdef Version: 1.2.0 Command: /home/biocbuild/bbs-3.20-bioc/R/bin/R CMD build --keep-empty-dirs --no-resave-data --md5 mosdef StartedAt: 2025-01-30 18:10:26 -0500 (Thu, 30 Jan 2025) EndedAt: 2025-01-30 18:15:21 -0500 (Thu, 30 Jan 2025) EllapsedTime: 295.3 seconds RetCode: 0 Status: OK PackageFile: mosdef_1.2.0.tar.gz PackageFileSize: 4.4 MiB