Package: motifStack Version: 1.50.0 Command: /Library/Frameworks/R.framework/Resources/bin/R CMD build --keep-empty-dirs --no-resave-data motifStack StartedAt: 2025-01-31 03:56:40 -0500 (Fri, 31 Jan 2025) EndedAt: 2025-01-31 03:59:02 -0500 (Fri, 31 Jan 2025) EllapsedTime: 141.8 seconds RetCode: 0 Status: OK PackageFile: motifStack_1.50.0.tar.gz PackageFileSize: 3.613 MiB