Package: motifStack Version: 1.50.0 Command: /Library/Frameworks/R.framework/Resources/bin/R CMD check --install=check:motifStack.install-out.txt --library=/Library/Frameworks/R.framework/Resources/library --no-vignettes --timings motifStack_1.50.0.tar.gz StartedAt: 2025-02-01 02:07:27 -0500 (Sat, 01 Feb 2025) EndedAt: 2025-02-01 02:13:47 -0500 (Sat, 01 Feb 2025) EllapsedTime: 380.4 seconds RetCode: 0 Status: OK CheckDir: motifStack.Rcheck Warnings: 0