Package: motifStack Version: 1.50.0 Command: /Library/Frameworks/R.framework/Resources/bin/R CMD INSTALL motifStack StartedAt: 2025-01-30 16:36:23 -0500 (Thu, 30 Jan 2025) EndedAt: 2025-01-30 16:37:22 -0500 (Thu, 30 Jan 2025) EllapsedTime: 59.4 seconds RetCode: 0 Status: OK