Package: motifStack Version: 1.50.0 Command: rm -rf motifStack.buildbin-libdir && mkdir motifStack.buildbin-libdir && /Users/biocbuild/BBS/utils/build-universal.sh motifStack_1.50.0.tar.gz /Library/Frameworks/R.framework/Resources/bin/R motifStack.buildbin-libdir StartedAt: 2025-01-31 13:12:52 -0500 (Fri, 31 Jan 2025) EndedAt: 2025-01-31 13:14:47 -0500 (Fri, 31 Jan 2025) EllapsedTime: 115.1 seconds RetCode: 0 Status: OK PackageFile: motifStack_1.50.0.tgz PackageFileSize: 4.642 MiB