Package: motifStack Version: 1.50.0 Command: /Library/Frameworks/R.framework/Resources/bin/R CMD build --keep-empty-dirs --no-resave-data motifStack StartedAt: 2025-01-30 21:00:09 -0500 (Thu, 30 Jan 2025) EndedAt: 2025-01-30 21:07:12 -0500 (Thu, 30 Jan 2025) EllapsedTime: 422.3 seconds RetCode: 0 Status: OK PackageFile: motifStack_1.50.0.tar.gz PackageFileSize: 3.744 MiB