Package: motifStack Version: 1.50.0 Command: /Library/Frameworks/R.framework/Resources/bin/R CMD INSTALL motifStack StartedAt: 2025-01-30 15:55:33 -0500 (Thu, 30 Jan 2025) EndedAt: 2025-01-30 15:57:22 -0500 (Thu, 30 Jan 2025) EllapsedTime: 109.2 seconds RetCode: 0 Status: OK