Package: motifStack Version: 1.50.0 Command: /home/biocbuild/bbs-3.20-bioc/R/bin/R CMD check --install=check:motifStack.install-out.txt --library=/home/biocbuild/bbs-3.20-bioc/R/site-library --timings motifStack_1.50.0.tar.gz StartedAt: 2025-01-31 00:12:26 -0500 (Fri, 31 Jan 2025) EndedAt: 2025-01-31 00:19:08 -0500 (Fri, 31 Jan 2025) EllapsedTime: 402.4 seconds RetCode: 0 Status: OK CheckDir: motifStack.Rcheck Warnings: 0