Package: motifStack Version: 1.50.0 Command: /home/biocbuild/bbs-3.20-bioc/R/bin/R CMD INSTALL motifStack StartedAt: 2025-01-30 15:31:02 -0500 (Thu, 30 Jan 2025) EndedAt: 2025-01-30 15:31:52 -0500 (Thu, 30 Jan 2025) EllapsedTime: 50.1 seconds RetCode: 0 Status: OK