Package: motifStack Version: 1.50.0 Command: F:\biocbuild\bbs-3.20-bioc\R\bin\R.exe CMD INSTALL motifStack StartedAt: 2025-01-30 16:14:05 -0500 (Thu, 30 Jan 2025) EndedAt: 2025-01-30 16:16:22 -0500 (Thu, 30 Jan 2025) EllapsedTime: 137.2 seconds RetCode: 0 Status: OK