Package: motifStack Version: 1.50.0 Command: /home/biocbuild/R/R/bin/R CMD build --keep-empty-dirs --no-resave-data motifStack StartedAt: 2025-01-31 01:06:38 -0000 (Fri, 31 Jan 2025) EndedAt: 2025-01-31 01:09:34 -0000 (Fri, 31 Jan 2025) EllapsedTime: 176.1 seconds RetCode: 0 Status: OK PackageFile: motifStack_1.50.0.tar.gz PackageFileSize: 1.286 MiB