Package: motifTestR Version: 1.2.1 Command: /Library/Frameworks/R.framework/Resources/bin/R CMD build --keep-empty-dirs --no-resave-data motifTestR StartedAt: 2025-02-04 04:03:53 -0500 (Tue, 04 Feb 2025) EndedAt: 2025-02-04 04:05:42 -0500 (Tue, 04 Feb 2025) EllapsedTime: 109.1 seconds RetCode: 0 Status: OK PackageFile: motifTestR_1.2.1.tar.gz PackageFileSize: 1.132 MiB