Package: motifTestR Version: 1.2.1 Command: /Library/Frameworks/R.framework/Resources/bin/R CMD check --install=check:motifTestR.install-out.txt --library=/Library/Frameworks/R.framework/Resources/library --no-vignettes --timings motifTestR_1.2.1.tar.gz StartedAt: 2025-02-04 06:42:56 -0500 (Tue, 04 Feb 2025) EndedAt: 2025-02-04 06:48:51 -0500 (Tue, 04 Feb 2025) EllapsedTime: 354.9 seconds RetCode: 0 Status: OK CheckDir: motifTestR.Rcheck Warnings: 0