Package: motifTestR Version: 1.2.1 Command: F:\biocbuild\bbs-3.20-bioc\R\bin\R.exe CMD check --no-multiarch --install=check:motifTestR.install-out.txt --library=F:\biocbuild\bbs-3.20-bioc\R\library --no-vignettes --timings motifTestR_1.2.1.tar.gz StartedAt: 2025-02-04 03:59:14 -0500 (Tue, 04 Feb 2025) EndedAt: 2025-02-04 04:02:37 -0500 (Tue, 04 Feb 2025) EllapsedTime: 202.5 seconds RetCode: 0 Status: OK CheckDir: motifTestR.Rcheck Warnings: 0