Package: motifbreakR Version: 2.20.0 Command: /Library/Frameworks/R.framework/Resources/bin/R CMD build --keep-empty-dirs --no-resave-data motifbreakR StartedAt: 2025-02-04 03:58:18 -0500 (Tue, 04 Feb 2025) EndedAt: 2025-02-04 04:06:00 -0500 (Tue, 04 Feb 2025) EllapsedTime: 462.1 seconds RetCode: 0 Status: OK PackageFile: motifbreakR_2.20.0.tar.gz PackageFileSize: 2.49 MiB