Package: motifbreakR Version: 2.20.0 Command: /Library/Frameworks/R.framework/Resources/bin/R CMD INSTALL motifbreakR StartedAt: 2025-02-03 16:57:01 -0500 (Mon, 03 Feb 2025) EndedAt: 2025-02-03 16:58:21 -0500 (Mon, 03 Feb 2025) EllapsedTime: 79.8 seconds RetCode: 0 Status: OK