Package: motifbreakR Version: 2.20.0 Command: chmod a+r motifbreakR -R && F:\biocbuild\bbs-3.20-bioc\R\bin\R.exe CMD build --keep-empty-dirs --no-resave-data motifbreakR StartedAt: 2025-02-03 20:32:11 -0500 (Mon, 03 Feb 2025) EndedAt: 2025-02-03 20:45:48 -0500 (Mon, 03 Feb 2025) EllapsedTime: 817.2 seconds RetCode: 0 Status: OK PackageFile: motifbreakR_2.20.0.tar.gz PackageFileSize: 2.046 MiB