Package: motifcounter Version: 1.30.0 Command: rm -rf motifcounter.buildbin-libdir && mkdir motifcounter.buildbin-libdir && /Users/biocbuild/BBS/utils/build-universal.sh motifcounter_1.30.0.tar.gz /Library/Frameworks/R.framework/Resources/bin/R motifcounter.buildbin-libdir StartedAt: 2025-02-05 16:46:11 -0500 (Wed, 05 Feb 2025) EndedAt: 2025-02-05 16:46:32 -0500 (Wed, 05 Feb 2025) EllapsedTime: 20.1 seconds RetCode: 0 Status: OK PackageFile: motifcounter_1.30.0.tgz PackageFileSize: 734.5 KiB