Package: motifcounter Version: 1.30.0 Command: /Library/Frameworks/R.framework/Resources/bin/R CMD build --keep-empty-dirs --no-resave-data motifcounter StartedAt: 2025-02-04 04:01:50 -0500 (Tue, 04 Feb 2025) EndedAt: 2025-02-04 04:03:01 -0500 (Tue, 04 Feb 2025) EllapsedTime: 71.7 seconds RetCode: 0 Status: OK PackageFile: motifcounter_1.30.0.tar.gz PackageFileSize: 611.3 KiB