Package: motifcounter Version: 1.30.0 Command: /Library/Frameworks/R.framework/Resources/bin/R CMD check --install=check:motifcounter.install-out.txt --library=/Library/Frameworks/R.framework/Resources/library --no-vignettes --timings motifcounter_1.30.0.tar.gz StartedAt: 2025-02-05 02:45:17 -0500 (Wed, 05 Feb 2025) EndedAt: 2025-02-05 02:48:38 -0500 (Wed, 05 Feb 2025) EllapsedTime: 201.2 seconds RetCode: 0 Status: OK CheckDir: motifcounter.Rcheck Warnings: 0