Package: motifcounter Version: 1.30.0 Command: /Library/Frameworks/R.framework/Resources/bin/R CMD INSTALL motifcounter StartedAt: 2025-02-03 15:31:55 -0500 (Mon, 03 Feb 2025) EndedAt: 2025-02-03 15:32:04 -0500 (Mon, 03 Feb 2025) EllapsedTime: 9.1 seconds RetCode: 0 Status: OK