Package: motifcounter Version: 1.30.0 Command: rm -rf motifcounter.buildbin-libdir && mkdir motifcounter.buildbin-libdir && /Users/biocbuild/BBS/utils/build-universal.sh motifcounter_1.30.0.tar.gz /Library/Frameworks/R.framework/Resources/bin/R motifcounter.buildbin-libdir StartedAt: 2025-02-04 13:30:18 -0500 (Tue, 04 Feb 2025) EndedAt: 2025-02-04 13:31:08 -0500 (Tue, 04 Feb 2025) EllapsedTime: 49.7 seconds RetCode: 0 Status: OK PackageFile: motifcounter_1.30.0.tgz PackageFileSize: 742.4 KiB