Package: motifcounter Version: 1.30.0 Command: /Library/Frameworks/R.framework/Resources/bin/R CMD build --keep-empty-dirs --no-resave-data motifcounter StartedAt: 2025-02-03 20:32:49 -0500 (Mon, 03 Feb 2025) EndedAt: 2025-02-03 20:36:02 -0500 (Mon, 03 Feb 2025) EllapsedTime: 193.3 seconds RetCode: 0 Status: OK PackageFile: motifcounter_1.30.0.tar.gz PackageFileSize: 611.1 KiB