Package: motifcounter Version: 1.30.0 Command: /home/biocbuild/bbs-3.20-bioc/R/bin/R CMD build --keep-empty-dirs --no-resave-data --md5 motifcounter StartedAt: 2025-02-03 18:20:24 -0500 (Mon, 03 Feb 2025) EndedAt: 2025-02-03 18:21:21 -0500 (Mon, 03 Feb 2025) EllapsedTime: 57.1 seconds RetCode: 0 Status: OK PackageFile: motifcounter_1.30.0.tar.gz PackageFileSize: 561.2 KiB