Package: motifcounter Version: 1.30.0 Command: rm -rf motifcounter.buildbin-libdir && mkdir motifcounter.buildbin-libdir && F:\biocbuild\bbs-3.20-bioc\R\bin\R.exe CMD INSTALL --build --library=motifcounter.buildbin-libdir motifcounter_1.30.0.tar.gz StartedAt: 2025-02-04 08:59:00 -0500 (Tue, 04 Feb 2025) EndedAt: 2025-02-04 08:59:43 -0500 (Tue, 04 Feb 2025) EllapsedTime: 43.2 seconds RetCode: 0 Status: OK PackageFile: motifcounter_1.30.0.zip PackageFileSize: 686.3 KiB