Package: motifcounter Version: 1.30.0 Command: /home/biocbuild/R/R/bin/R CMD build --keep-empty-dirs --no-resave-data motifcounter StartedAt: 2025-02-04 01:08:18 -0000 (Tue, 04 Feb 2025) EndedAt: 2025-02-04 01:09:40 -0000 (Tue, 04 Feb 2025) EllapsedTime: 82.0 seconds RetCode: 0 Status: OK PackageFile: motifcounter_1.30.0.tar.gz PackageFileSize: 499.9 KiB